BEGIN:VCALENDAR
VERSION:2.0
PRODID:-//wp-events-plugin.com//7.2.3.1//EN
TZID:America/Los_Angeles
X-WR-TIMEZONE:America/Los_Angeles
BEGIN:VEVENT
UID:22@gloriaferrer.com
DTSTART;TZID=America/Los_Angeles:20260509T110000
DTEND;TZID=America/Los_Angeles:20260509T130000
DTSTAMP:20260414T233519Z
URL:https://www.gloriaferrer.com/events/the-sparkling-soiree-a-mothers-day
 -paint-experience/
SUMMARY:The Sparkling Soirée: A Mother’s Day Paint Experience
DESCRIPTION:A Mother’s Day Paint Experience\nJoin us this Mother’s Day 
 weekend for an elevated afternoon at Willow Springs\, nestled among the vi
 neyards. Delight in a guided painting experience while enjoying our award-
 winning sparkling wines\, perfectly paired with seasonal bites curated by 
 our Estate Chef. Create lasting memories as you sip\, savor\, and celebrat
 e the art of the moment together.\n\n\n\n\n\nGet your tickets now!\n&nbsp\
 ;
ATTACH;FMTTYPE=image/jpeg:https://www.gloriaferrer.com/wp-content/uploads/
 2026/04/Untitled-design-99.png
END:VEVENT
BEGIN:VTIMEZONE
TZID:America/Los_Angeles
X-LIC-LOCATION:America/Los_Angeles
BEGIN:DAYLIGHT
DTSTART:20260308T030000
TZOFFSETFROM:-0800
TZOFFSETTO:-0700
TZNAME:PDT
END:DAYLIGHT
END:VTIMEZONE
END:VCALENDAR