BEGIN:VCALENDAR
VERSION:2.0
PRODID:-//wp-events-plugin.com//7.2.3.1//EN
TZID:America/Los_Angeles
X-WR-TIMEZONE:America/Los_Angeles
BEGIN:VEVENT
UID:23@gloriaferrer.com
DTSTART;TZID=America/Los_Angeles:20260510T093000
DTEND;TZID=America/Los_Angeles:20260510T103000
DTSTAMP:20260415T213428Z
URL:https://www.gloriaferrer.com/events/a-toast-to-her-yoga-in-the-vineyar
 d/
SUMMARY:A Toast to Her: Yoga in the Vineyard
DESCRIPTION:Join us this Mother’s Day weekend for a serene and elevated m
 orning at Willow Springs\, set among the vines. Begin with an all-levels y
 oga flow\, thoughtfully guided by an experienced instructor to restore and
  reconnect\, followed by a celebratory sparkling wine toast.\nSavor the be
 auty of the vineyard\, share meaningful moments\, and honor the occasion w
 ith an experience rooted in relaxation\, connection\, and a touch of indul
 gence.\n\n\n\n\nGet your tickets now!\n&nbsp\;
ATTACH;FMTTYPE=image/jpeg:https://www.gloriaferrer.com/wp-content/uploads/
 2026/04/Untitled-design-2026-04-15T130254.409.png
END:VEVENT
BEGIN:VTIMEZONE
TZID:America/Los_Angeles
X-LIC-LOCATION:America/Los_Angeles
BEGIN:DAYLIGHT
DTSTART:20260308T030000
TZOFFSETFROM:-0800
TZOFFSETTO:-0700
TZNAME:PDT
END:DAYLIGHT
END:VTIMEZONE
END:VCALENDAR